BEGIN:VCALENDAR
VERSION:2.0
PRODID:-//Rotary District 7120 Youth Exchange - ECPv6.15.20//NONSGML v1.0//EN
CALSCALE:GREGORIAN
METHOD:PUBLISH
X-WR-CALNAME:Rotary District 7120 Youth Exchange
X-ORIGINAL-URL:https://rotarydistrict7120youthexchange.org
X-WR-CALDESC:Events for Rotary District 7120 Youth Exchange
REFRESH-INTERVAL;VALUE=DURATION:PT1H
X-Robots-Tag:noindex
X-PUBLISHED-TTL:PT1H
BEGIN:VTIMEZONE
TZID:America/New_York
BEGIN:DAYLIGHT
TZOFFSETFROM:-0500
TZOFFSETTO:-0400
TZNAME:EDT
DTSTART:20240310T070000
END:DAYLIGHT
BEGIN:STANDARD
TZOFFSETFROM:-0400
TZOFFSETTO:-0500
TZNAME:EST
DTSTART:20241103T060000
END:STANDARD
BEGIN:DAYLIGHT
TZOFFSETFROM:-0500
TZOFFSETTO:-0400
TZNAME:EDT
DTSTART:20250309T070000
END:DAYLIGHT
BEGIN:STANDARD
TZOFFSETFROM:-0400
TZOFFSETTO:-0500
TZNAME:EST
DTSTART:20251102T060000
END:STANDARD
BEGIN:DAYLIGHT
TZOFFSETFROM:-0500
TZOFFSETTO:-0400
TZNAME:EDT
DTSTART:20260308T070000
END:DAYLIGHT
BEGIN:STANDARD
TZOFFSETFROM:-0400
TZOFFSETTO:-0500
TZNAME:EST
DTSTART:20261101T060000
END:STANDARD
END:VTIMEZONE
BEGIN:VEVENT
DTSTART;TZID=America/New_York:20250220T080000
DTEND;TZID=America/New_York:20250222T170000
DTSTAMP:20260420T185225
CREATED:20231230T213430Z
LAST-MODIFIED:20240803T181329Z
UID:1679-1740038400-1740243600@rotarydistrict7120youthexchange.org
SUMMARY:NAYEN - Leadership Conference
DESCRIPTION:RYE 7120 District Leaders will attend the NAYEN Conference for the District
URL:https://rotarydistrict7120youthexchange.org/calendar/nayen-leadership-conference/
LOCATION:Merida\, Mexico\, Mexico
CATEGORIES:District Event
ORGANIZER;CN="Gretchen DiNardo":MAILTO:gdinardo@outlook.com
END:VEVENT
END:VCALENDAR