BEGIN:VCALENDAR
VERSION:2.0
PRODID:-//Rotary District 7120 Youth Exchange - ECPv6.15.20//NONSGML v1.0//EN
CALSCALE:GREGORIAN
METHOD:PUBLISH
X-WR-CALNAME:Rotary District 7120 Youth Exchange
X-ORIGINAL-URL:https://rotarydistrict7120youthexchange.org
X-WR-CALDESC:Events for Rotary District 7120 Youth Exchange
REFRESH-INTERVAL;VALUE=DURATION:PT1H
X-Robots-Tag:noindex
X-PUBLISHED-TTL:PT1H
BEGIN:VTIMEZONE
TZID:America/New_York
BEGIN:DAYLIGHT
TZOFFSETFROM:-0500
TZOFFSETTO:-0400
TZNAME:EDT
DTSTART:20240310T070000
END:DAYLIGHT
BEGIN:STANDARD
TZOFFSETFROM:-0400
TZOFFSETTO:-0500
TZNAME:EST
DTSTART:20241103T060000
END:STANDARD
BEGIN:DAYLIGHT
TZOFFSETFROM:-0500
TZOFFSETTO:-0400
TZNAME:EDT
DTSTART:20250309T070000
END:DAYLIGHT
BEGIN:STANDARD
TZOFFSETFROM:-0400
TZOFFSETTO:-0500
TZNAME:EST
DTSTART:20251102T060000
END:STANDARD
BEGIN:DAYLIGHT
TZOFFSETFROM:-0500
TZOFFSETTO:-0400
TZNAME:EDT
DTSTART:20260308T070000
END:DAYLIGHT
BEGIN:STANDARD
TZOFFSETFROM:-0400
TZOFFSETTO:-0500
TZNAME:EST
DTSTART:20261101T060000
END:STANDARD
END:VTIMEZONE
BEGIN:VEVENT
DTSTART;TZID=America/New_York:20250502T080000
DTEND;TZID=America/New_York:20250504T170000
DTSTAMP:20260420T093412
CREATED:20231230T232524Z
LAST-MODIFIED:20240803T182444Z
UID:1689-1746172800-1746378000@rotarydistrict7120youthexchange.org
SUMMARY:Rotary 7120 District Conference & OB Orientation #5
DESCRIPTION:Rotary District 7120 Conference held in Corning\, NY.  A mandatory event for all Inbound and Outbound  Rotary Youth Exchange students.  Costs are paid for by the Student’s Rotary Clubs.  Information will be sent to all students in regards to registering for the conference.  The OB Orientation #5 will be held during this event.
URL:https://rotarydistrict7120youthexchange.org/calendar/rotary-7120-district-conference-2/
CATEGORIES:District Event,Inbound Student Event,Outbound Student Event
ORGANIZER;CN="Gretchen DiNardo":MAILTO:gdinardo@outlook.com
END:VEVENT
END:VCALENDAR