BEGIN:VCALENDAR
VERSION:2.0
PRODID:-//Rotary District 7120 Youth Exchange - ECPv6.15.20//NONSGML v1.0//EN
CALSCALE:GREGORIAN
METHOD:PUBLISH
X-WR-CALNAME:Rotary District 7120 Youth Exchange
X-ORIGINAL-URL:https://rotarydistrict7120youthexchange.org
X-WR-CALDESC:Events for Rotary District 7120 Youth Exchange
REFRESH-INTERVAL;VALUE=DURATION:PT1H
X-Robots-Tag:noindex
X-PUBLISHED-TTL:PT1H
BEGIN:VTIMEZONE
TZID:America/New_York
BEGIN:DAYLIGHT
TZOFFSETFROM:-0500
TZOFFSETTO:-0400
TZNAME:EDT
DTSTART:20160313T070000
END:DAYLIGHT
BEGIN:STANDARD
TZOFFSETFROM:-0400
TZOFFSETTO:-0500
TZNAME:EST
DTSTART:20161106T060000
END:STANDARD
BEGIN:DAYLIGHT
TZOFFSETFROM:-0500
TZOFFSETTO:-0400
TZNAME:EDT
DTSTART:20170312T070000
END:DAYLIGHT
BEGIN:STANDARD
TZOFFSETFROM:-0400
TZOFFSETTO:-0500
TZNAME:EST
DTSTART:20171105T060000
END:STANDARD
BEGIN:DAYLIGHT
TZOFFSETFROM:-0500
TZOFFSETTO:-0400
TZNAME:EDT
DTSTART:20180311T070000
END:DAYLIGHT
BEGIN:STANDARD
TZOFFSETFROM:-0400
TZOFFSETTO:-0500
TZNAME:EST
DTSTART:20181104T060000
END:STANDARD
END:VTIMEZONE
BEGIN:VEVENT
DTSTART;VALUE=DATE:20170515
DTEND;VALUE=DATE:20170516
DTSTAMP:20260422T175744
CREATED:20170502T185414Z
LAST-MODIFIED:20170502T185414Z
UID:708-1494806400-1494892799@rotarydistrict7120youthexchange.org
SUMMARY:Outbound on-line Applications Open Date
DESCRIPTION:The Outbound on-line application link is now available for any students the ages of 15-18.5 on their departure date for the 2018-19 Rotary Youth Exchange year.  To begin this process click on the following link: http://yehub.net/EM2-obapp\nAll application must be submitted and required documents completed by October 15th with sponsoring Rotary Club Approval. \nQuestions may be directed to YE Outbound Chair – Nancy Loughlin – email: nkloughlin@gmail.com
URL:https://rotarydistrict7120youthexchange.org/calendar/outbound-on-line-applications-open-date/
LOCATION:NY
CATEGORIES:Outbound Student Event
ORGANIZER;CN="Nancy Loughlin":MAILTO:nkloughlin@gmail.com
END:VEVENT
BEGIN:VEVENT
DTSTART;TZID=America/New_York:20170402T104500
DTEND;TZID=America/New_York:20170402T150000
DTSTAMP:20260422T175744
CREATED:20170326T184331Z
LAST-MODIFIED:20170406T205107Z
UID:514-1491129900-1491145200@rotarydistrict7120youthexchange.org
SUMMARY:Outbound Orientation #3 - Students & Parents
DESCRIPTION:Outbound Student Orientation #3 – both students and parents must attend \nStudent Safety and Student Protection – keeping safe while on exchange.  The Do’s and Don’ts and the choices that we make. \nWhere: Avon Village Hall – Directly behind the Fire Station – 74 Genesee Street Avon NY – https://goo.gl/maps/rM3qEdEDF4D2 \nDate & Time: Sunday\, April 2nd at 10:30 AM – 3 PM \nContact Person: Nancy Loughlin nkloughlin@gmail.com  cell – 607 425-4530
URL:https://rotarydistrict7120youthexchange.org/calendar/outbound-orientation-3-students-parents/
LOCATION:Avon Village Hall\, 74 Genesee Street\, Avon\, NY\, 14414\, United States
CATEGORIES:Outbound Student Event
ORGANIZER;CN="Nancy Loughlin":MAILTO:nkloughlin@gmail.com
END:VEVENT
BEGIN:VEVENT
DTSTART;VALUE=DATE:20170401
DTEND;VALUE=DATE:20170402
DTSTAMP:20260422T175744
CREATED:20170326T024327Z
LAST-MODIFIED:20170329T011133Z
UID:474-1491004800-1491091199@rotarydistrict7120youthexchange.org
SUMMARY:USA Bus Trip Application Deadline & 1st Payment Due
DESCRIPTION:All students that want to participate in the USA 30 day bus trip need to submit the following information by today to: \nMichael R Wilcox – Discover America Bus Trip PO Box 117  Bainbridge\, NY 13733 \nThis trip is on a first come first serve basis and applications must be received with all required documentation and signatures to be accepted. \nPlease also make sure you send an email to Anne Morrell –  annedm@rochester.rr.com to let the District know that you will be participating in this trip. \nPlease submit: \n\nThe USA Bus Trip Application – Application USA Trip 2017\nCopy of Insurance Card\nCopy of Rotary Student ID Card\n1st Payment – US Funds to Discover America Bus Trip\n\nDISCOVER_AMERICA_BROCHURE 2017
URL:https://rotarydistrict7120youthexchange.org/calendar/usa-bus-trip-application-deadline-1st-payment-due/
LOCATION:NY
CATEGORIES:Inbound Student Event
ORGANIZER;CN="Anne Morrell":MAILTO:annedm@rochester.rr.com
END:VEVENT
BEGIN:VEVENT
DTSTART;TZID=America/New_York:20170330T183000
DTEND;TZID=America/New_York:20170402T113000
DTSTAMP:20260422T175744
CREATED:20170326T182253Z
LAST-MODIFIED:20170326T192139Z
UID:508-1490898600-1491132600@rotarydistrict7120youthexchange.org
SUMMARY:Avon Weekend
DESCRIPTION:Avon Inbound Weekend \nWhere: Avon NY.  Drop off and Pick up at the Avon Village Hall – https://goo.gl/maps/rM3qEdEDF4D2 \nDate & Time:  Drop off – Thursday March 30th\, 6:30 pm – 7 pm   Pick up – Sunday April 2nd\, 11 AM – 11:30 AM \nContact person:  Cathy Murphy – murphy50@frontiernet.net  Please contact Cathy for any late arrivals or early pick ups in making those types of arrangements.  Weekend includes: a visit to the Avon Schools\, RIT – Rochester Institute of Technology\, bowling\, Casino Night (a dress up occasion – bring our party clothes) and a pancake breakfast. \nThis is an expected attendance for all Inbound Exchange Students.  Please print and complete the registration form below and return to Cathy Murphy as instructed. \nAvon Exchange Weekend 2017 registation form
URL:https://rotarydistrict7120youthexchange.org/calendar/avon-weekend/
LOCATION:Avon Village Hall\, 74 Genesee Street\, Avon\, NY\, 14414\, United States
CATEGORIES:Inbound Student Event
ORGANIZER;CN="Anne Morrell":MAILTO:annedm@rochester.rr.com
END:VEVENT
END:VCALENDAR