BEGIN:VCALENDAR
VERSION:2.0
PRODID:-//Rotary District 7120 Youth Exchange - ECPv6.15.20//NONSGML v1.0//EN
CALSCALE:GREGORIAN
METHOD:PUBLISH
X-WR-CALNAME:Rotary District 7120 Youth Exchange
X-ORIGINAL-URL:https://rotarydistrict7120youthexchange.org
X-WR-CALDESC:Events for Rotary District 7120 Youth Exchange
REFRESH-INTERVAL;VALUE=DURATION:PT1H
X-Robots-Tag:noindex
X-PUBLISHED-TTL:PT1H
BEGIN:VTIMEZONE
TZID:America/New_York
BEGIN:DAYLIGHT
TZOFFSETFROM:-0500
TZOFFSETTO:-0400
TZNAME:EDT
DTSTART:20170312T070000
END:DAYLIGHT
BEGIN:STANDARD
TZOFFSETFROM:-0400
TZOFFSETTO:-0500
TZNAME:EST
DTSTART:20171105T060000
END:STANDARD
BEGIN:DAYLIGHT
TZOFFSETFROM:-0500
TZOFFSETTO:-0400
TZNAME:EDT
DTSTART:20180311T070000
END:DAYLIGHT
BEGIN:STANDARD
TZOFFSETFROM:-0400
TZOFFSETTO:-0500
TZNAME:EST
DTSTART:20181104T060000
END:STANDARD
BEGIN:DAYLIGHT
TZOFFSETFROM:-0500
TZOFFSETTO:-0400
TZNAME:EDT
DTSTART:20190310T070000
END:DAYLIGHT
BEGIN:STANDARD
TZOFFSETFROM:-0400
TZOFFSETTO:-0500
TZNAME:EST
DTSTART:20191103T060000
END:STANDARD
BEGIN:DAYLIGHT
TZOFFSETFROM:-0500
TZOFFSETTO:-0400
TZNAME:EDT
DTSTART:20200308T070000
END:DAYLIGHT
BEGIN:STANDARD
TZOFFSETFROM:-0400
TZOFFSETTO:-0500
TZNAME:EST
DTSTART:20201101T060000
END:STANDARD
END:VTIMEZONE
BEGIN:VEVENT
DTSTART;TZID=America/New_York:20190710T060000
DTEND;TZID=America/New_York:20190723T210000
DTSTAMP:20260419T160144
CREATED:20180226T154147Z
LAST-MODIFIED:20180820T143126Z
UID:886-1562738400-1563915600@rotarydistrict7120youthexchange.org
SUMMARY:WEST COAST TOUR
DESCRIPTION:The West Coast Tour is a 14 day trip offered to the Inbound Rotary Youth Exchange Students.  This trip is at the student’s own expense.  Information on the trip will be emailed to all students\, natural families\, club YEO’s & counselors and current host families. \nWest Coast Agenda 2018 \n2019 application and revised West Coast agenda to follow
URL:https://rotarydistrict7120youthexchange.org/calendar/west-coast-tour/
LOCATION:West Coast Trip
CATEGORIES:Inbound Student Event
ORGANIZER;CN="Julie Carney":MAILTO:juliecarney7120@gmail.com
END:VEVENT
BEGIN:VEVENT
DTSTART;TZID=America/New_York:20190602T120000
DTEND;TZID=America/New_York:20190602T150000
DTSTAMP:20260419T160144
CREATED:20170803T170103Z
LAST-MODIFIED:20190530T011525Z
UID:859-1559476800-1559487600@rotarydistrict7120youthexchange.org
SUMMARY:Youth Exchange Picnic - IB & OB Students\, Families & YE Committee
DESCRIPTION:A graduation time for the Outbound Student and the final gathering for many of the Inbound students before they return home or embark on the West Coast trip.   Parents of the Outbound Students are highly encouraged to attend.  Final words of wisdom\, insurance & business cards\, rotary pins\, exchanges of laughter and tears will fill this special time. Host families of the Inbound student are also welcome as well as YE Committee members \nThe picnic is sponsored by the Elmira Rotary Club\,  Families/District volunteers are asked to bring a dish to pass to the picnic \nDate: Sunday June 2nd \nTime: Noon – 3:30 PM \nLocation: Big Flats American Legion https://goo.gl/maps/omoKZdJV8WD2 – 45 Olcott Rd S\, Big Flats\, NY 14814  Outside pavilion\, bare left when driving toward American Legion building and follow road to pavilion.
URL:https://rotarydistrict7120youthexchange.org/calendar/youth-exchange-picnic-ib-ob-students-families-ye-committee/
LOCATION:Big Flats American Legion\, 45 Olcott Road South\, Big Flats\, NY\, 14824\, United States
CATEGORIES:District Event,Inbound Student Event,Outbound Student Event
ORGANIZER;CN="Nancy Loughlin":MAILTO:nkloughlin@gmail.com
END:VEVENT
BEGIN:VEVENT
DTSTART;TZID=America/New_York:20190530T180000
DTEND;TZID=America/New_York:20190602T150000
DTSTAMP:20260419T160144
CREATED:20170803T164504Z
LAST-MODIFIED:20190514T204538Z
UID:854-1559239200-1559487600@rotarydistrict7120youthexchange.org
SUMMARY:Area 1 Inbound Weekend
DESCRIPTION:This is the last scheduled weekend for the IB student and an expected weekend for the IB student to attend.  Another fun filled weekend that is jammed packed! \nDrop off at Watkins Glen High School – 5/30 \nPick up at Big Flat American Legion – 6/2 \nAgenda and registration form to follow when available and emailed also.
URL:https://rotarydistrict7120youthexchange.org/calendar/area-1-inbound-weekend-2/
LOCATION:Watkins Glen High School\, 301 12th Street\, Watkins Glen\, NY\, 14891\, United States
CATEGORIES:Inbound Student Event
ORGANIZER;CN="Julie Carney":MAILTO:juliecarney7120@gmail.com
END:VEVENT
BEGIN:VEVENT
DTSTART;TZID=America/New_York:20190503T130000
DTEND;TZID=America/New_York:20190505T120000
DTSTAMP:20260419T160144
CREATED:20170530T180743Z
LAST-MODIFIED:20180820T134149Z
UID:717-1556888400-1557057600@rotarydistrict7120youthexchange.org
SUMMARY:2019 District 7120 Rotary Conference
DESCRIPTION:The 2019 District 7120 Rotary Conference – This is a mandatory event for all Outbound and Inbound Students. Details on event will be emailed to the students from Nancy Loughlin.  A time to celebrate Mike Solovak’s year as District Govenor and to be thankful for the year that the Rotary Youth Exchange program has given to the youth exchange student.
URL:https://rotarydistrict7120youthexchange.org/calendar/2018-district-conference/
LOCATION:Kalahari Resorts\, 250 Kalahari Blvd\, Pocono Manor\, NY\, 18349\, United States
CATEGORIES:District Event,Inbound Student Event,Outbound Student Event
ORGANIZER;CN="Nancy Loughlin":MAILTO:nkloughlin@gmail.com
END:VEVENT
BEGIN:VEVENT
DTSTART;TZID=America/New_York:20190422T190000
DTEND;TZID=America/New_York:20190422T203000
DTSTAMP:20260419T160144
CREATED:20190813T200000Z
LAST-MODIFIED:20190813T200000Z
UID:1266-1555959600-1555965000@rotarydistrict7120youthexchange.org
SUMMARY:YEX Conference Call
DESCRIPTION:Conference call for all YEX Committee members
URL:https://rotarydistrict7120youthexchange.org/calendar/yex-conference-call/
LOCATION:NY
END:VEVENT
BEGIN:VEVENT
DTSTART;TZID=America/New_York:20190407T110000
DTEND;TZID=America/New_York:20190407T150000
DTSTAMP:20260419T160144
CREATED:20181231T190501Z
LAST-MODIFIED:20181231T193313Z
UID:1177-1554634800-1554649200@rotarydistrict7120youthexchange.org
SUMMARY:Mandatory Outbound Orientation STUDENTS AND PARENTS
DESCRIPTION:At this orientation Tzell Travel will be covering all of the information that is required for booking flights\, getting Visa’s as well as safety. \nA lot of information will be covered so it is important that both students and parents are in attendance. \n 
URL:https://rotarydistrict7120youthexchange.org/calendar/mandatory-outbound-orientation-students-and-parents/
LOCATION:Avon Village Hall\, 74 Genesee Street\, Avon\, NY\, 14414\, United States
ORGANIZER;CN="Gretchen DiNardo":MAILTO:gdinardo@outlook.com
END:VEVENT
BEGIN:VEVENT
DTSTART;TZID=America/New_York:20190404T180000
DTEND;TZID=America/New_York:20190407T113000
DTSTAMP:20260419T160144
CREATED:20170725T213210Z
LAST-MODIFIED:20181231T193117Z
UID:840-1554400800-1554636600@rotarydistrict7120youthexchange.org
SUMMARY:Avon Weekend - for the Inbound Students
DESCRIPTION:This is an expected event for the Inbound students to attend.  This fun-filled\, jammed packed weekend includes a visit to RIT – Rochester Institute of Technology\, Casino Night\, Glow Dance\, Bowling\, a pancake breakfast and much\, much more. \nRegistration Form – coming soon! \nAn email will be sent to all IB Students\, Host Parents and Club YEO & Counselor with details of the weekend.
URL:https://rotarydistrict7120youthexchange.org/calendar/avon-weekend-for-the-inbound-students-2/
LOCATION:Avon Village Hall\, 74 Genesee Street\, Avon\, NY\, 14414\, United States
CATEGORIES:Inbound Student Event
ORGANIZER;CN="Ed Kime":MAILTO:edtkime@frontier.com
END:VEVENT
BEGIN:VEVENT
DTSTART;TZID=America/New_York:20190314T080000
DTEND;TZID=America/New_York:20190317T120000
DTSTAMP:20260419T160144
CREATED:20170725T204438Z
LAST-MODIFIED:20181231T192705Z
UID:833-1552550400-1552824000@rotarydistrict7120youthexchange.org
SUMMARY:NAYEN Conference
DESCRIPTION:NAYEN – North America Youth Exchange Network – Annual conference for all Youth Exchange Committee Members – more details to follow:
URL:https://rotarydistrict7120youthexchange.org/calendar/nayen-conference/
LOCATION:NY
CATEGORIES:District Event
ORGANIZER;CN="Julie Carney":MAILTO:juliecarney7120@gmail.com
END:VEVENT
BEGIN:VEVENT
DTSTART;TZID=America/New_York:20190310T100000
DTEND;TZID=America/New_York:20190310T150000
DTSTAMP:20260419T160144
CREATED:20190203T203106Z
LAST-MODIFIED:20190203T204204Z
UID:1180-1552212000-1552230000@rotarydistrict7120youthexchange.org
SUMMARY:OB Orientation - STUDENTS ONLY
DESCRIPTION:This is a MANDATORY orientation for the Outbound Students.  We will be doing public speaking and Blazer fitting.  Please watch for emails from Gretchen with homework assignments
URL:https://rotarydistrict7120youthexchange.org/calendar/ob-orientation-students-only/
LOCATION:Pittsford High School – Cafeteria\, 472 Mendon Road\, Pittsford\, NY\, 14534\, United States
ORGANIZER;CN="Gretchen DiNardo":MAILTO:gdinardo@outlook.com
END:VEVENT
BEGIN:VEVENT
DTSTART;TZID=America/New_York:20190213T190000
DTEND;TZID=America/New_York:20190213T200000
DTSTAMP:20260419T160144
CREATED:20190213T214201Z
LAST-MODIFIED:20190213T214201Z
UID:1183-1550084400-1550088000@rotarydistrict7120youthexchange.org
SUMMARY:Conference Call
DESCRIPTION:
URL:https://rotarydistrict7120youthexchange.org/calendar/conference-call/
LOCATION:NY
ORGANIZER;CN="Julie Carney":MAILTO:juliecarney7120@gmail.com
END:VEVENT
BEGIN:VEVENT
DTSTART;TZID=America/New_York:20190209T130000
DTEND;TZID=America/New_York:20190210T120000
DTSTAMP:20260419T160144
CREATED:20171031T185651Z
LAST-MODIFIED:20181231T185847Z
UID:875-1549717200-1549800000@rotarydistrict7120youthexchange.org
SUMMARY:ROTEX Ski Overnight
DESCRIPTION:The ROTEX ski weekend is open to current Inbound Students and the newly selected Outbound Students! \nAll information and required forms have been emailed to each student.   The deadline for signing up is 01/19/2019 \nPlease contact Henry Lemen    h.lemen98@gmail.com  if you have any questions \n 
URL:https://rotarydistrict7120youthexchange.org/calendar/rotex-ski-overnight/
LOCATION:Swain Ski Resort\, 2275 Co Rd 24\, Swain\, NY\, 14884\, United States
CATEGORIES:Inbound Student Event,Outbound Student Event
ORGANIZER;CN="Nancy Loughlin":MAILTO:nkloughlin@gmail.com
END:VEVENT
BEGIN:VEVENT
DTSTART;TZID=America/New_York:20190119T090000
DTEND;TZID=America/New_York:20190119T090000
DTSTAMP:20260419T160144
CREATED:20170713T011759Z
LAST-MODIFIED:20181231T184233Z
UID:804-1547888400-1547888400@rotarydistrict7120youthexchange.org
SUMMARY:OB Student Orientation #1 - Students only
DESCRIPTION:Mandatory Orientation for the STUDENTS ONLY.  Topics covered public speaking\, making your presentation\, learning your language\, understanding the rules here and culturally there and what it takes to have a successful exchange. \nSTUDENTS – Don’t forget to use your carpooling skills – Call on your country officer and District Rotarian’s if help is needed!
URL:https://rotarydistrict7120youthexchange.org/calendar/outbound-orientation-1/
LOCATION:Newark High School\, 625 Peirson Ave\, Newark\, NY\, 14513\, United States
CATEGORIES:Outbound Student Event
ORGANIZER;CN="Gretchen DiNardo":MAILTO:gdinardo@outlook.com
END:VEVENT
BEGIN:VEVENT
DTSTART;TZID=America/New_York:20190117T190000
DTEND;TZID=America/New_York:20190117T203000
DTSTAMP:20260419T160144
CREATED:20170724T203655Z
LAST-MODIFIED:20180625T004006Z
UID:811-1547751600-1547757000@rotarydistrict7120youthexchange.org
SUMMARY:Rotary Youth Exchange Conference Call
DESCRIPTION:An invitation to tonight’s conference call will be sent to all Club YEO’s Counselor\, Country Officers and District personnel.  Anyone not receiving or wanting to participate in the call please contact: Julie Carney – juliecarney7120@gmail.com
URL:https://rotarydistrict7120youthexchange.org/calendar/rotary-youth-exchange-conference-call/
LOCATION:NY
CATEGORIES:District Event
ORGANIZER;CN="Julie Carney":MAILTO:juliecarney7120@gmail.com
END:VEVENT
BEGIN:VEVENT
DTSTART;TZID=America/New_York:20181228T133000
DTEND;TZID=America/New_York:20181229T160000
DTSTAMP:20260419T160144
CREATED:20181231T185604Z
LAST-MODIFIED:20181231T185642Z
UID:1174-1546003800-1546099200@rotarydistrict7120youthexchange.org
SUMMARY:New Year Overnight with Inbounds and Outbounds
DESCRIPTION:This is an overnight provided by Ed Kime (Avon Rotarian) that lets the students get together for fun activities like ice skating and bowling! \nThere is no cost for this weekend!
URL:https://rotarydistrict7120youthexchange.org/calendar/new-year-overnight-with-inbounds-and-outbounds/
LOCATION:NY
END:VEVENT
BEGIN:VEVENT
DTSTART;TZID=America/New_York:20181220T190000
DTEND;TZID=America/New_York:20181220T220000
DTSTAMP:20260419T160144
CREATED:20171031T182850Z
LAST-MODIFIED:20180625T002054Z
UID:872-1545332400-1545343200@rotarydistrict7120youthexchange.org
SUMMARY:HOLIDAY POPS CONCERT
DESCRIPTION:JULIE CARNEY WILL BE SENDING INFORMATION ON THIS SPECIAL EVENT TO THE INBOUND STUDENTS.  LOOK FOR AN EMAIL FROM JULIE!!
URL:https://rotarydistrict7120youthexchange.org/calendar/holiday-pops-concert/
LOCATION:Kodak Eastman Theater\, 108 East Main Street\, Rochester\, NY\, 14604\, United States
CATEGORIES:Inbound Student Event
ORGANIZER;CN="Julie Carney":MAILTO:juliecarney7120@gmail.com
END:VEVENT
BEGIN:VEVENT
DTSTART;TZID=America/New_York:20181210T190000
DTEND;TZID=America/New_York:20181210T200000
DTSTAMP:20260419T160144
CREATED:20170711T230434Z
LAST-MODIFIED:20180625T001935Z
UID:800-1544468400-1544472000@rotarydistrict7120youthexchange.org
SUMMARY:Outbound (OB) Student Webinar - Students Only
DESCRIPTION:This Webinar is designed to help the newly selected 2019-20 outbound Ambassador in learning their responsibilities of learning a new language\, homework assignments\, orientation dates\, preparing a presentation\, working with your mentor\, building a relationship with your sponsoring Rotary Club and presentations required and the skills needed to complete a successful exchange.   An individual email from Anne Morrell inviting your to this Virtual Meeting will be sent to you.  Please contact Anne if you do not receive by the scheduled date. \nannedm@rochester.rr.com
URL:https://rotarydistrict7120youthexchange.org/calendar/outbound-student-webinar/
LOCATION:NY
CATEGORIES:Outbound Student Event
ORGANIZER;CN="Gretchen DiNardo":MAILTO:gdinardo@outlook.com
END:VEVENT
BEGIN:VEVENT
DTSTART;TZID=America/New_York:20181207T053000
DTEND;TZID=America/New_York:20181209T233000
DTSTAMP:20260419T160144
CREATED:20170711T013806Z
LAST-MODIFIED:20180625T001635Z
UID:793-1544160600-1544398200@rotarydistrict7120youthexchange.org
SUMMARY:New York City Trip
DESCRIPTION:The New York City Trip is an optional trip for the Inbound Students.  This trip is at the student’s own expense. \nDetails will be posted as soon as they are available
URL:https://rotarydistrict7120youthexchange.org/calendar/new-york-city-trip/
LOCATION:NY
CATEGORIES:Inbound Student Event
ORGANIZER;CN="Julie Carney":MAILTO:juliecarney7120@gmail.com
END:VEVENT
BEGIN:VEVENT
DTSTART;TZID=America/New_York:20181202T130000
DTEND;TZID=America/New_York:20181202T140000
DTSTAMP:20260419T160144
CREATED:20170711T015555Z
LAST-MODIFIED:20180625T001357Z
UID:795-1543755600-1543759200@rotarydistrict7120youthexchange.org
SUMMARY:District 7120 Youth Exchange Meeting
DESCRIPTION:All are welcome to attend the District’s youth exchange meeting.  Agenda and documents will be emailed to current hosting clubs\, country officers and district persons.  To receive a copy please contact Julie Carney – juliecarney7120@gmail.com
URL:https://rotarydistrict7120youthexchange.org/calendar/district-7120-youth-exchange-meeting/
LOCATION:Ravenwood Golf Center\, 929 Lynaugh Road\, Victor\, NY\, 14564\, United States
CATEGORIES:District Event
ORGANIZER;CN="Anne Morrell":MAILTO:annedm@rochester.rr.com
END:VEVENT
BEGIN:VEVENT
DTSTART;TZID=America/New_York:20181202T120000
DTEND;TZID=America/New_York:20181202T160000
DTSTAMP:20260419T160144
CREATED:20170711T013230Z
LAST-MODIFIED:20181110T215446Z
UID:789-1543752000-1543766400@rotarydistrict7120youthexchange.org
SUMMARY:Holiday Brunch - Sponsored by the Victor Farmington Rotary Club
DESCRIPTION:A great way to bring in the Holidays – American Style with this wonderful holiday brunch sponsored by the Victor Farmington Rotary Club.  An expected event for all Inbound Students and an optional event for the newly approved 2019-20 Outbound Student.  Host Families\, and YE committee members are welcome to attend too! \nHoliday Registration Form coming soon
URL:https://rotarydistrict7120youthexchange.org/calendar/holiday-brunch-sponsored-by-the-victor-farmington-rotary-club/
LOCATION:Ravenwood Golf Center\, 929 Lynaugh Road\, Victor\, NY\, 14564\, United States
CATEGORIES:District Event,Inbound Student Event,Outbound Student Event
ORGANIZER;CN="Kim Yourch":MAILTO:kyourch@rochester.rr.com
END:VEVENT
BEGIN:VEVENT
DTSTART;TZID=America/New_York:20181117T073000
DTEND;TZID=America/New_York:20181118T120000
DTSTAMP:20260419T160144
CREATED:20170710T232612Z
LAST-MODIFIED:20180624T235544Z
UID:783-1542439800-1542542400@rotarydistrict7120youthexchange.org
SUMMARY:Outbound Interview Weekend
DESCRIPTION:The Interview Weekend will be held at the Rotary Sunshine Camp. \nOUTBOUND APPLICANTS – All of the applicants will be sent an interview time for Saturday with instructions on how the weekend will be structured.  Each applicant will be spaced at 20 minute intervals. Parents are asked to arrive on Sunday at 11:00 am at the Rotary Sunshine camp for a special presentation and to pick up your child.  Departure will be at noon. \nYE SELECTION COMMITTEE – Selection committee members need to be on site\, ready to work by 7:30 am.  All meals will be provided.  There are also rooms available for Saturday night.  Please contact Gretchen DiNardo to reserve your room(s) – gdinardo@outlook.com \nDetails on weekend will be sent out by Gretchen.
URL:https://rotarydistrict7120youthexchange.org/calendar/outbound-interview-weekend/
LOCATION:Rotary Sunshine Camp\, 809 Five Points Road\, Rush\, NY\, 14543\, United States
CATEGORIES:District Event,Outbound Student Event
ORGANIZER;CN="Gretchen DiNardo":MAILTO:gdinardo@outlook.com
END:VEVENT
BEGIN:VEVENT
DTSTART;TZID=America/New_York:20181116T183000
DTEND;TZID=America/New_York:20181116T210000
DTSTAMP:20260419T160144
CREATED:20170711T124425Z
LAST-MODIFIED:20180624T234757Z
UID:798-1542393000-1542402000@rotarydistrict7120youthexchange.org
SUMMARY:YE Committee OB Interview Training
DESCRIPTION:For all Youth Exchange Committee Members that will be involved in the Outbound Interview Selection process. \nDinner – 6:30 PM \nMeeting  – 7:00 PM \nOvernight accommodations are available for Friday night.  Must bring your own bedding.  Please RSVP to Gretchen DiNardo by 11/9 – gdinardo@outlook.com
URL:https://rotarydistrict7120youthexchange.org/calendar/ye-committee-ob-interview-training/
LOCATION:Rotary Sunshine Camp\, 809 Five Points Road\, Rush\, NY\, 14543\, United States
CATEGORIES:District Event
ORGANIZER;CN="Gretchen DiNardo":MAILTO:gdinardo@outlook.com
END:VEVENT
BEGIN:VEVENT
DTSTART;TZID=America/New_York:20181028T170000
DTEND;TZID=America/New_York:20181028T203000
DTSTAMP:20260419T160144
CREATED:20171031T190611Z
LAST-MODIFIED:20180625T000356Z
UID:879-1540746000-1540758600@rotarydistrict7120youthexchange.org
SUMMARY:EASTERN CITIES FELLOWSHIP DINNER
DESCRIPTION:93rd  EASTERN CITIES FELLOWSHIP DINNER  \nINBOUND STUDENTS ARE ENCOURAGED TO ATTEND WITH THEIR ROTARY CLUBS. \nDetails to follow
URL:https://rotarydistrict7120youthexchange.org/calendar/eastern-cities-fellowship-dinner/
LOCATION:Floreano Rochester Riverside Convention Center\, 123 E. Main Street\, Rochester\, NY\, 14604\, United States
ORGANIZER;CN="Anne Morrell":MAILTO:annedm@rochester.rr.com
END:VEVENT
BEGIN:VEVENT
DTSTART;TZID=America/New_York:20181015T190000
DTEND;TZID=America/New_York:20181015T203000
DTSTAMP:20260419T160144
CREATED:20170711T011205Z
LAST-MODIFIED:20180624T233742Z
UID:787-1539630000-1539635400@rotarydistrict7120youthexchange.org
SUMMARY:District 7120 Youth Exchange Conference Call
DESCRIPTION:An invitation to tonight’s conference call will be sent to all Club YEO’s Counselor\, Country and District personnel.  Anyone not receiving or wanting to participate in the call please contact: Julie Carney – juliecarney7120@gmail.com
URL:https://rotarydistrict7120youthexchange.org/calendar/district-7120-youth-exchange-conference-call/
LOCATION:NY
CATEGORIES:District Event
ORGANIZER;CN="Julie Carney":MAILTO:juliecarney7120@gmail.com
END:VEVENT
BEGIN:VEVENT
DTSTART;VALUE=DATE:20181015
DTEND;VALUE=DATE:20181016
DTSTAMP:20260419T160144
CREATED:20170710T230618Z
LAST-MODIFIED:20180624T234408Z
UID:780-1539561600-1539647999@rotarydistrict7120youthexchange.org
SUMMARY:Outbound 2019-20 on-line Application is DUE
DESCRIPTION:The application for the 2019-20 Youth Exchange Year is due today. \nhttp://yehub.net/EM2-obapp \nAny questions in regards to the outbound application process please contact: \nGretchen DiNardo – Outbound Chair \ngdinardo@outlook.com
URL:https://rotarydistrict7120youthexchange.org/calendar/outbound-2018-19-on-line-application-is-due/
LOCATION:NY
CATEGORIES:Outbound Student Event
ORGANIZER;CN="Gretchen DiNardo":MAILTO:gdinardo@outlook.com
END:VEVENT
BEGIN:VEVENT
DTSTART;TZID=America/New_York:20180930T120000
DTEND;TZID=America/New_York:20180930T140000
DTSTAMP:20260419T160144
CREATED:20170622T121448Z
LAST-MODIFIED:20180710T002759Z
UID:731-1538308800-1538316000@rotarydistrict7120youthexchange.org
SUMMARY:Inbound Orientation at Cal-Mum Middle School
DESCRIPTION:Mandatory for any Inbound Student that has not completed their Inbound Orientation. Expected for all other Inbound Students. Lunch provided
URL:https://rotarydistrict7120youthexchange.org/calendar/inbound-orientation-at-cal-mum-middle-school-2/
LOCATION:Cal-Mum Middle School\, 99 North Street\, Caledonia\, NY\, United States
CATEGORIES:Inbound Student Event
ORGANIZER;CN="Nancy Loughlin":MAILTO:nkloughlin@gmail.com
END:VEVENT
BEGIN:VEVENT
DTSTART;TZID=America/New_York:20180927T190000
DTEND;TZID=America/New_York:20180930T120000
DTSTAMP:20260419T160144
CREATED:20170621T202529Z
LAST-MODIFIED:20180716T193403Z
UID:721-1538074800-1538308800@rotarydistrict7120youthexchange.org
SUMMARY:Caledonia-Mumford Weekend
DESCRIPTION:This is an expected event for all Inbound Students. Any excuses not to attend\, late arrivals or early departures must be cleared by Nancy Loughlin \nDrop off and Pick up are at the Caledonia Middle School – 99 North Street Caledonia\, NY \nCaledonia-Mumford fall weekend registration 2018 – to be submitted to Carol Cole by 9/20  Emails will be sent to student\, hosting club and parents on details of event.  Carpooling with neighboring Rotary Clubs & host families encouraged. \n  \n 
URL:https://rotarydistrict7120youthexchange.org/calendar/caledonia-mumford-weekend/
LOCATION:Cal-Mum Middle School\, 99 North Street\, Caledonia\, NY\, United States
CATEGORIES:Inbound Student Event
ORGANIZER;CN="Carol Cole":MAILTO:ccole@rochester.rr.com
END:VEVENT
BEGIN:VEVENT
DTSTART;TZID=America/New_York:20180910T190000
DTEND;TZID=America/New_York:20180910T200000
DTSTAMP:20260419T160144
CREATED:20180709T155240Z
LAST-MODIFIED:20180709T155240Z
UID:1113-1536606000-1536609600@rotarydistrict7120youthexchange.org
SUMMARY:Country Officer Training
DESCRIPTION:Annual Country Officer training – Information coming soon on log in details for training.
URL:https://rotarydistrict7120youthexchange.org/calendar/country-officer-training/
LOCATION:NY
ORGANIZER;CN="Julie Carney":MAILTO:juliecarney7120@gmail.com
END:VEVENT
BEGIN:VEVENT
DTSTART;TZID=America/New_York:20180824T160000
DTEND;TZID=America/New_York:20180825T120000
DTSTAMP:20260419T160144
CREATED:20170407T203929Z
LAST-MODIFIED:20180719T130531Z
UID:571-1535126400-1535198400@rotarydistrict7120youthexchange.org
SUMMARY:Inbound Orientation
DESCRIPTION:Rotary Inbound Orientation for the newly arrived students. \nDate: Friday\, August 24th – Saturday\, August 2th \nDrop off time: 4 PM \nPick up time: 12 PM \nLocation:  St. Timothy’s Episcopal Church – 122 Liberty Street Bath\, NY 14810 \nWhat to bring: \n\nPassport\, Ds-2019 and Insurance Card\nSleeping Bag and mattress/cot as you will be sleeping on the floor\n“Work” clothes and proper shoes as you will doing a service project
URL:https://rotarydistrict7120youthexchange.org/calendar/inbound-orientation/
LOCATION:St. Timothy’s Episcopal Church\, 122 Liberty Street\, Bath\, NY\, 14810\, United States
CATEGORIES:Inbound Student Event
ORGANIZER;CN="Nancy Loughlin":MAILTO:nkloughlin@gmail.com
END:VEVENT
BEGIN:VEVENT
DTSTART;TZID=America/New_York:20180812T120000
DTEND;TZID=America/New_York:20180812T150000
DTSTAMP:20260419T160144
CREATED:20170407T202303Z
LAST-MODIFIED:20180719T185505Z
UID:568-1534075200-1534086000@rotarydistrict7120youthexchange.org
SUMMARY:Welcome Home Picnic
DESCRIPTION:A picnic sponsored by the Pittsford Rotary Club will be held for the returning outbound students\, families and Rotarians.  Please use the attached form to register and pay to attend the picnic.  All Rebound Students are at no charge. \nRebound_Picnic_Reg_2018pdf \n  \n 
URL:https://rotarydistrict7120youthexchange.org/calendar/welcome-home-picnic/
LOCATION:Pittsford High School – Cafeteria\, 472 Mendon Road\, Pittsford\, NY\, 14534\, United States
CATEGORIES:Outbound Student Event
ORGANIZER;CN="Gretchen DiNardo":MAILTO:gdinardo@outlook.com
END:VEVENT
BEGIN:VEVENT
DTSTART;TZID=America/New_York:20180811T130000
DTEND;TZID=America/New_York:20180812T113000
DTSTAMP:20260419T160144
CREATED:20170407T201459Z
LAST-MODIFIED:20180614T223632Z
UID:566-1533992400-1534073400@rotarydistrict7120youthexchange.org
SUMMARY:Rebound Weekend - WELCOME HOME!
DESCRIPTION:Annual Outbound REBOUND Overnight \nReverse culture shock and the new life for the returning exchange student can be challenging.  This event is designed to overcome these challenges with guidance and support. \nStudents will be sent a registration form to complete with instructions on what to bring\, wear and where the overnight will take place.  Any questions please contact Gretchen DiNardo – gdinardo@outlook.com
URL:https://rotarydistrict7120youthexchange.org/calendar/rebound-weekend/
LOCATION:NY
CATEGORIES:Outbound Student Event
ORGANIZER;CN="Gretchen DiNardo":MAILTO:gdinardo@outlook.com
END:VEVENT
END:VCALENDAR