BEGIN:VCALENDAR
VERSION:2.0
PRODID:-//Rotary District 7120 Youth Exchange - ECPv6.15.20//NONSGML v1.0//EN
CALSCALE:GREGORIAN
METHOD:PUBLISH
X-ORIGINAL-URL:https://rotarydistrict7120youthexchange.org
X-WR-CALDESC:Events for Rotary District 7120 Youth Exchange
REFRESH-INTERVAL;VALUE=DURATION:PT1H
X-Robots-Tag:noindex
X-PUBLISHED-TTL:PT1H
BEGIN:VTIMEZONE
TZID:America/New_York
BEGIN:DAYLIGHT
TZOFFSETFROM:-0500
TZOFFSETTO:-0400
TZNAME:EDT
DTSTART:20240310T070000
END:DAYLIGHT
BEGIN:STANDARD
TZOFFSETFROM:-0400
TZOFFSETTO:-0500
TZNAME:EST
DTSTART:20241103T060000
END:STANDARD
BEGIN:DAYLIGHT
TZOFFSETFROM:-0500
TZOFFSETTO:-0400
TZNAME:EDT
DTSTART:20250309T070000
END:DAYLIGHT
BEGIN:STANDARD
TZOFFSETFROM:-0400
TZOFFSETTO:-0500
TZNAME:EST
DTSTART:20251102T060000
END:STANDARD
BEGIN:DAYLIGHT
TZOFFSETFROM:-0500
TZOFFSETTO:-0400
TZNAME:EDT
DTSTART:20260308T070000
END:DAYLIGHT
BEGIN:STANDARD
TZOFFSETFROM:-0400
TZOFFSETTO:-0500
TZNAME:EST
DTSTART:20261101T060000
END:STANDARD
END:VTIMEZONE
BEGIN:VEVENT
DTSTART;TZID=America/New_York:20250102T190000
DTEND;TZID=America/New_York:20250102T210000
DTSTAMP:20260420T190302
CREATED:20231019T160431Z
LAST-MODIFIED:20240803T174313Z
UID:1644-1735844400-1735851600@rotarydistrict7120youthexchange.org
SUMMARY:Country Officer Training - ZOOM - 7:00 PM
DESCRIPTION:The Country Officers of District 7120 will hold their annual training.  A zoom link will be sent out to all current Country Officer in the District.
URL:https://rotarydistrict7120youthexchange.org/calendar/country-officer-training-zoom/
CATEGORIES:District Event
ORGANIZER;CN="Gretchen DiNardo":MAILTO:gdinardo@outlook.com
END:VEVENT
BEGIN:VEVENT
DTSTART;TZID=America/New_York:20250103T190000
DTEND;TZID=America/New_York:20250103T210000
DTSTAMP:20260420T190302
CREATED:20231019T171053Z
LAST-MODIFIED:20240803T174456Z
UID:1646-1735930800-1735938000@rotarydistrict7120youthexchange.org
SUMMARY:OB Future RYE Student Zoom Meeting - 7:00PM
DESCRIPTION:The District Rotary Youth Exchange committee will hold a meeting by zoom for the newly selected OB Students.  A zoom link will be sent to the OB students.
URL:https://rotarydistrict7120youthexchange.org/calendar/ob-zoom-meeting/
CATEGORIES:Outbound Student Event
ORGANIZER;CN="Gretchen DiNardo":MAILTO:gdinardo@outlook.com
END:VEVENT
BEGIN:VEVENT
DTSTART;VALUE=DATE:20250115
DTEND;VALUE=DATE:20250116
DTSTAMP:20260420T190302
CREATED:20231230T212208Z
LAST-MODIFIED:20240803T174620Z
UID:1677-1736899200-1736985599@rotarydistrict7120youthexchange.org
SUMMARY:Short Term Application Link OPENS
DESCRIPTION:The Short Term Application Link will open today for the 2025-25 YE year. \nSHORT TERM APPLICATION
URL:https://rotarydistrict7120youthexchange.org/calendar/short-term-application-link-opens/
CATEGORIES:Outbound Student Event
ORGANIZER;CN="Anne Morrell":MAILTO:annedm@rochester.rr.com
END:VEVENT
BEGIN:VEVENT
DTSTART;TZID=America/New_York:20250118T100000
DTEND;TZID=America/New_York:20250118T130000
DTSTAMP:20260420T190302
CREATED:20231019T171916Z
LAST-MODIFIED:20240803T174849Z
UID:1649-1737194400-1737205200@rotarydistrict7120youthexchange.org
SUMMARY:OB Student Orientation #1 - Avon Village Hall
DESCRIPTION:The Outbound Student Orientation #1 will be held at the Avon Village Hall in Avon NY.  This is a mandatory event for the OB Student.  Topics include: creating  your Rotary Youth Exchange PowerPoint presentation and public speaking.
URL:https://rotarydistrict7120youthexchange.org/calendar/ob-student-orientation-1-avon-village-hall/
LOCATION:Avon Village Hall\, 74 Genesee Street\, Avon\, NY\, 14414\, United States
CATEGORIES:Outbound Student Event
ORGANIZER;CN="Gretchen DiNardo":MAILTO:gdinardo@outlook.com
END:VEVENT
BEGIN:VEVENT
DTSTART;TZID=America/New_York:20250118T130000
DTEND;TZID=America/New_York:20250119T100000
DTSTAMP:20260420T190302
CREATED:20231019T173125Z
LAST-MODIFIED:20240803T175046Z
UID:1652-1737205200-1737280800@rotarydistrict7120youthexchange.org
SUMMARY:IB & OB RYE Student Avon Rotary Club Overnight Event
DESCRIPTION:This is a fun-filled event for the IB & OB Rotary Youth Exchange Students.  Get ready to ice skate\, go bowling and have fun playing laser tag and much more.  A registration form will be sent to all students to be able to attend this event.
URL:https://rotarydistrict7120youthexchange.org/calendar/inbound-outbound-rye-student-avon-rotary-club-overnight-event/
LOCATION:Avon Village Hall\, 74 Genesee Street\, Avon\, NY\, 14414\, United States
CATEGORIES:Inbound Student Event,Outbound Student Event
ORGANIZER;CN="Ed Kime":MAILTO:edtkime@frontier.com
END:VEVENT
BEGIN:VEVENT
DTSTART;TZID=America/New_York:20250119T100000
DTEND;TZID=America/New_York:20250119T130000
DTSTAMP:20260420T190302
CREATED:20221130T223821Z
LAST-MODIFIED:20240803T180847Z
UID:1438-1737280800-1737291600@rotarydistrict7120youthexchange.org
SUMMARY:Winter Brunch for IB & OB Students and their families!
DESCRIPTION:The Winter Brunch will be hosted by the Victor Farmington Rotary Club.  For IB Students and their host families\, OB Students and their families and the YE District Committee members. \nLocation: Ravenwood Golf Club – 929 Lynaugh Road Victor NY 14564 \nTime: 10 AM to 1 PM \nRegistration Form:  All IB students and their host parents\,  OB students and their parents and District YE Committee members must complete the Winter Brunch registration form if attending the event.  Please follow the directions to where to send the form once completed.  Victor Brunch Registration 2025 – to be attached soon
URL:https://rotarydistrict7120youthexchange.org/calendar/winter-brunch-for-ib-ob-students-and-their-families/
LOCATION:Ravenwood Golf Center\, 929 Lynaugh Road\, Victor\, NY\, 14564\, United States
CATEGORIES:District Event,Host Family Event,Inbound Student Event,Outbound Student Event
ORGANIZER;CN="Galen Powers":MAILTO:galenp@nls.net
END:VEVENT
BEGIN:VEVENT
DTSTART;TZID=America/New_York:20250119T130000
DTEND;TZID=America/New_York:20250119T150000
DTSTAMP:20260420T190303
CREATED:20231019T174618Z
LAST-MODIFIED:20240803T180419Z
UID:1656-1737291600-1737298800@rotarydistrict7120youthexchange.org
SUMMARY:OB Student Orientation #2
DESCRIPTION:The District Rotary Youth Exchange committee will hold  Orientation #2 for the Outbound Student and their parents.  This is a mandatory event.
URL:https://rotarydistrict7120youthexchange.org/calendar/ob-student-orientation-2-2/
LOCATION:Ravenwood Golf Center\, 929 Lynaugh Road\, Victor\, NY\, 14564\, United States
CATEGORIES:Outbound Student Event
ORGANIZER;CN="Gretchen DiNardo":MAILTO:gdinardo@outlook.com
END:VEVENT
END:VCALENDAR